BEGIN:VCALENDAR
VERSION:2.0
PRODID:SchoolNow
CALSCALE:GREGORIAN
BEGIN:VEVENT
UID:84ba270a-82fc-11f0-ac16-0a58a9feac02
DTSTAMP:20251216T200035Z
SUMMARY:Read Across America Day
URL;VALUE=URI:https://www.tusd.org/schools/walteria/calendar/8548394/read-a
 cross-america-day
DTSTART;VALUE=DATE:20260227
DTEND;VALUE=DATE:20260228
END:VEVENT
END:VCALENDAR
