BEGIN:VCALENDAR
VERSION:2.0
PRODID:SchoolNow
CALSCALE:GREGORIAN
BEGIN:VEVENT
UID:84ba25de-82fc-11f0-982b-0a58a9feac02
DTSTAMP:20251216T200035Z
SUMMARY:PTA: Spring Book Fair
URL;VALUE=URI:https://www.tusd.org/schools/walteria/calendar/8548393/pta-sp
 ring-book-fair
DTSTART;VALUE=DATE:20260223
DTEND;VALUE=DATE:20260227
END:VEVENT
END:VCALENDAR
