BEGIN:VCALENDAR
VERSION:2.0
PRODID:SchoolNow
CALSCALE:GREGORIAN
BEGIN:VEVENT
UID:75bf4a04-8230-11f0-b595-0a58a9feac02
DTSTAMP:20251216T200036Z
SUMMARY:Conferences: NO Meeting
URL;VALUE=URI:https://www.tusd.org/schools/walteria/calendar/8543933/confer
 ences-no-meeting
DTSTART:20260325T214000Z
DTEND:20260325T221500Z
END:VEVENT
END:VCALENDAR
