BEGIN:VCALENDAR
VERSION:2.0
PRODID:SchoolNow
CALSCALE:GREGORIAN
BEGIN:VEVENT
UID:78a1236a-81fd-11f0-a66a-0ef68f5b8b0d
DTSTAMP:20251216T200036Z
SUMMARY:Make Up GATE Screening (grades 3-5)
URL;VALUE=URI:https://www.tusd.org/schools/walteria/calendar/8542573/make-u
 p-gate-screening-grades-3-5
DTSTART;VALUE=DATE:20251202
DTEND;VALUE=DATE:20251203
END:VEVENT
END:VCALENDAR
