BEGIN:VCALENDAR
VERSION:2.0
PRODID:SchoolNow
CALSCALE:GREGORIAN
BEGIN:VEVENT
UID:78a12220-81fd-11f0-8cbc-0ef68f5b8b0d
DTSTAMP:20251216T200036Z
SUMMARY:4th/5th Grade GATE Screening
URL;VALUE=URI:https://www.tusd.org/schools/walteria/calendar/8542572/4th-5t
 h-grade-gate-screening
DTSTART;VALUE=DATE:20251118
DTEND;VALUE=DATE:20251119
END:VEVENT
END:VCALENDAR
