BEGIN:VCALENDAR
VERSION:2.0
PRODID:SchoolNow
CALSCALE:GREGORIAN
BEGIN:VEVENT
UID:78a11e1a-81fd-11f0-8abb-0ef68f5b8b0d
DTSTAMP:20251216T200035Z
SUMMARY:3rd Grade GATE Screening
URL;VALUE=URI:https://www.tusd.org/schools/walteria/calendar/8542571/3rd-gr
 ade-gate-screening
DTSTART;VALUE=DATE:20251028
DTEND;VALUE=DATE:20251029
END:VEVENT
END:VCALENDAR
