BEGIN:VCALENDAR
VERSION:2.0
PRODID:SchoolNow
CALSCALE:GREGORIAN
BEGIN:VEVENT
UID:692ece48-773d-11f0-bc8b-0a58a9feac02
DTSTAMP:20251216T200035Z
SUMMARY:NO SCHOOL: President's Day
URL;VALUE=URI:https://www.tusd.org/schools/walteria/calendar/8493191/no-sch
 ool-presidents-day
DTSTART;VALUE=DATE:20260216
DTEND;VALUE=DATE:20260217
END:VEVENT
END:VCALENDAR
