BEGIN:VCALENDAR
VERSION:2.0
PRODID:SchoolNow
CALSCALE:GREGORIAN
BEGIN:VEVENT
UID:692ecd4e-773d-11f0-9a7e-0a58a9feac02
DTSTAMP:20251216T200035Z
SUMMARY:NO SCHOOL: Lincoln's Birthday
URL;VALUE=URI:https://www.tusd.org/schools/walteria/calendar/8493190/no-sch
 ool-lincolns-birthday
DTSTART;VALUE=DATE:20260209
DTEND;VALUE=DATE:20260210
END:VEVENT
END:VCALENDAR
