BEGIN:VCALENDAR
VERSION:2.0
PRODID:SchoolNow
CALSCALE:GREGORIAN
BEGIN:VEVENT
UID:692ecc5e-773d-11f0-a4d2-0a58a9feac02
DTSTAMP:20251216T200035Z
SUMMARY:NO SCHOOL: Martin Luther King Jr. Day
URL;VALUE=URI:https://www.tusd.org/schools/walteria/calendar/8493189/no-sch
 ool-martin-luther-king-jr-day
DTSTART;VALUE=DATE:20260119
DTEND;VALUE=DATE:20260120
END:VEVENT
END:VCALENDAR
