BEGIN:VCALENDAR
VERSION:2.0
PRODID:SchoolNow
CALSCALE:GREGORIAN
BEGIN:VEVENT
UID:692eca6a-773d-11f0-9dd2-0a58a9feac02
DTSTAMP:20251216T200035Z
SUMMARY:PTA: Movie Night
URL;VALUE=URI:https://www.tusd.org/schools/walteria/calendar/8493187/pta-mo
 vie-night
DTSTART;VALUE=DATE:20251205
DTEND;VALUE=DATE:20251206
END:VEVENT
END:VCALENDAR
