BEGIN:VCALENDAR
VERSION:2.0
PRODID:SchoolNow
CALSCALE:GREGORIAN
BEGIN:VEVENT
UID:692ec934-773d-11f0-bba7-0a58a9feac02
DTSTAMP:20251216T200036Z
SUMMARY:Thanksgiving Week  No School
URL;VALUE=URI:https://www.tusd.org/schools/walteria/calendar/8493186/thanks
 giving-week-no-school
DTSTART;VALUE=DATE:20251124
DTEND;VALUE=DATE:20251129
END:VEVENT
END:VCALENDAR
