BEGIN:VCALENDAR
VERSION:2.0
PRODID:SchoolNow
CALSCALE:GREGORIAN
BEGIN:VEVENT
UID:692ec7c2-773d-11f0-be08-0a58a9feac02
DTSTAMP:20251216T200035Z
SUMMARY:NO SCHOOL: Veteran's Day
URL;VALUE=URI:https://www.tusd.org/schools/walteria/calendar/8493185/no-sch
 ool-veterans-day
DTSTART;VALUE=DATE:20251111
DTEND;VALUE=DATE:20251112
END:VEVENT
END:VCALENDAR
