BEGIN:VCALENDAR
VERSION:2.0
PRODID:SchoolNow
CALSCALE:GREGORIAN
BEGIN:VEVENT
UID:692ec420-773d-11f0-8990-0a58a9feac02
DTSTAMP:20251216T200036Z
SUMMARY:No School: Non Teaching Day
URL;VALUE=URI:https://www.tusd.org/schools/walteria/calendar/8493184/no-sch
 ool-non-teaching-day
DTSTART;VALUE=DATE:20251110
DTEND;VALUE=DATE:20251111
END:VEVENT
END:VCALENDAR
