BEGIN:VCALENDAR
VERSION:2.0
PRODID:SchoolNow
CALSCALE:GREGORIAN
BEGIN:VEVENT
UID:6f23b018-76d7-11f0-9061-0a58a9feac02
DTSTAMP:20251216T200035Z
SUMMARY:PTA: Direct Donation Drives Ends
URL;VALUE=URI:https://www.tusd.org/schools/walteria/calendar/8490542/pta-di
 rect-donation-drives-ends
DTSTART;VALUE=DATE:20251031
DTEND;VALUE=DATE:20251101
END:VEVENT
END:VCALENDAR
