BEGIN:VCALENDAR
VERSION:2.0
PRODID:SchoolNow
CALSCALE:GREGORIAN
BEGIN:VEVENT
UID:6f23af32-76d7-11f0-98be-0a58a9feac02
DTSTAMP:20251216T200035Z
SUMMARY:Costume Parade
URL;VALUE=URI:https://www.tusd.org/schools/walteria/calendar/8490541/costum
 e-parade
DTSTART:20251031T161500Z
DTEND:20251031T171500Z
END:VEVENT
END:VCALENDAR
