BEGIN:VCALENDAR
VERSION:2.0
PRODID:SchoolNow
CALSCALE:GREGORIAN
BEGIN:VEVENT
UID:6f23ae42-76d7-11f0-8230-0a58a9feac02
DTSTAMP:20251216T200035Z
SUMMARY:PTA: Fall Carnival/Trunk or Treat
URL;VALUE=URI:https://www.tusd.org/schools/walteria/calendar/8490540/pta-fa
 ll-carnival-trunk-or-treat
DTSTART;VALUE=DATE:20251024
DTEND;VALUE=DATE:20251025
END:VEVENT
END:VCALENDAR
