BEGIN:VCALENDAR
VERSION:2.0
PRODID:SchoolNow
CALSCALE:GREGORIAN
BEGIN:VEVENT
UID:6f23ad52-76d7-11f0-b896-0a58a9feac02
DTSTAMP:20251216T200035Z
SUMMARY:5th Grade Panoramic Picture Day
URL;VALUE=URI:https://www.tusd.org/schools/walteria/calendar/8490539/5th-gr
 ade-panoramic-picture-day
DTSTART;VALUE=DATE:20251024
DTEND;VALUE=DATE:20251025
END:VEVENT
END:VCALENDAR
