BEGIN:VCALENDAR
VERSION:2.0
PRODID:SchoolNow
CALSCALE:GREGORIAN
BEGIN:VEVENT
UID:6f23ac44-76d7-11f0-8509-0a58a9feac02
DTSTAMP:20251216T200036Z
SUMMARY:Makeup Picture Day
URL;VALUE=URI:https://www.tusd.org/schools/walteria/calendar/8490538/makeup
 -picture-day
DTSTART;VALUE=DATE:20251024
DTEND;VALUE=DATE:20251025
END:VEVENT
END:VCALENDAR
