BEGIN:VCALENDAR
VERSION:2.0
PRODID:SchoolNow
CALSCALE:GREGORIAN
BEGIN:VEVENT
UID:6f23ab18-76d7-11f0-9199-0a58a9feac02
DTSTAMP:20251216T200036Z
SUMMARY:NO SCHOOL: Non Instructional day
URL;VALUE=URI:https://www.tusd.org/schools/walteria/calendar/8490537/no-sch
 ool-non-instructional-day
DTSTART;VALUE=DATE:20251002
DTEND;VALUE=DATE:20251003
END:VEVENT
END:VCALENDAR
