BEGIN:VCALENDAR
VERSION:2.0
PRODID:SchoolNow
CALSCALE:GREGORIAN
BEGIN:VEVENT
UID:8ad7b896-74a6-11f0-968e-0a58a9feac02
DTSTAMP:20251216T200036Z
SUMMARY:Earth Week
URL;VALUE=URI:https://www.tusd.org/schools/walteria/calendar/8483899/earth-
 week
DTSTART;VALUE=DATE:20260420
DTEND;VALUE=DATE:20260425
END:VEVENT
END:VCALENDAR
