BEGIN:VCALENDAR
VERSION:2.0
PRODID:SchoolNow
CALSCALE:GREGORIAN
BEGIN:VEVENT
UID:8ad7b670-74a6-11f0-9b50-0a58a9feac02
DTSTAMP:20251216T200036Z
SUMMARY:PTA: District Bike Rodeo
URL;VALUE=URI:https://www.tusd.org/schools/walteria/calendar/8483897/pta-di
 strict-bike-rodeo
DTSTART;VALUE=DATE:20260511
DTEND;VALUE=DATE:20260512
END:VEVENT
END:VCALENDAR
