BEGIN:VCALENDAR
VERSION:2.0
PRODID:SchoolNow
CALSCALE:GREGORIAN
BEGIN:VEVENT
UID:8ad7b4d6-74a6-11f0-84da-0a58a9feac02
DTSTAMP:20251216T200036Z
SUMMARY:Grades 3-5 State Testing
URL;VALUE=URI:https://www.tusd.org/schools/walteria/calendar/8483896/grades
 -3-5-state-testing
DTSTART;VALUE=DATE:20260501
DTEND;VALUE=DATE:20260530
END:VEVENT
END:VCALENDAR
