BEGIN:VCALENDAR
VERSION:2.0
PRODID:SchoolNow
CALSCALE:GREGORIAN
BEGIN:VEVENT
UID:8ad79596-74a6-11f0-9bff-0a58a9feac02
DTSTAMP:20251216T200036Z
SUMMARY:5th Grade Promotion Ceremony
URL;VALUE=URI:https://www.tusd.org/schools/walteria/calendar/8483895/5th-gr
 ade-promotion-ceremony
DTSTART;VALUE=DATE:20260610
DTEND;VALUE=DATE:20260611
END:VEVENT
END:VCALENDAR
