BEGIN:VCALENDAR
VERSION:2.0
PRODID:SchoolNow
CALSCALE:GREGORIAN
BEGIN:VEVENT
UID:f21aac70-6cae-11f0-9eb0-0a58a9feac02
DTSTAMP:20251216T200035Z
SUMMARY:Progress Report Posted in PowerSchool
URL;VALUE=URI:https://www.tusd.org/schools/walteria/calendar/8455823/progre
 ss-report-posted-in-powerschool
DTSTART;VALUE=DATE:20260320
DTEND;VALUE=DATE:20260321
END:VEVENT
END:VCALENDAR
