BEGIN:VCALENDAR
VERSION:2.0
PRODID:SchoolNow
CALSCALE:GREGORIAN
BEGIN:VEVENT
UID:f21aab80-6cae-11f0-96e6-0a58a9feac02
DTSTAMP:20251216T200036Z
SUMMARY:Progress Report Posted in PowerSchool
URL;VALUE=URI:https://www.tusd.org/schools/walteria/calendar/8455822/progre
 ss-report-posted-in-powerschool
DTSTART;VALUE=DATE:20251205
DTEND;VALUE=DATE:20251206
END:VEVENT
END:VCALENDAR
