BEGIN:VCALENDAR
VERSION:2.0
PRODID:SchoolNow
CALSCALE:GREGORIAN
BEGIN:VEVENT
UID:f21aaa90-6cae-11f0-8aa9-0a58a9feac02
DTSTAMP:20251216T200036Z
SUMMARY:Progress Report Posted in PowerSchool
URL;VALUE=URI:https://www.tusd.org/schools/walteria/calendar/8455821/progre
 ss-report-posted-in-powerschool
DTSTART;VALUE=DATE:20251010
DTEND;VALUE=DATE:20251011
END:VEVENT
END:VCALENDAR
