BEGIN:VCALENDAR
VERSION:2.0
PRODID:SchoolNow
CALSCALE:GREGORIAN
BEGIN:VEVENT
UID:f21aa996-6cae-11f0-a603-0a58a9feac02
DTSTAMP:20251216T200036Z
SUMMARY:Achievement Reports Posted in PowerSchool
URL;VALUE=URI:https://www.tusd.org/schools/walteria/calendar/8455820/achiev
 ement-reports-posted-in-powerschool
DTSTART;VALUE=DATE:20260611
DTEND;VALUE=DATE:20260612
END:VEVENT
END:VCALENDAR
