BEGIN:VCALENDAR
VERSION:2.0
PRODID:SchoolNow
CALSCALE:GREGORIAN
BEGIN:VEVENT
UID:f21aa89c-6cae-11f0-a3ab-0a58a9feac02
DTSTAMP:20251216T200036Z
SUMMARY:Achievement Reports Posted in PowerSchool
URL;VALUE=URI:https://www.tusd.org/schools/walteria/calendar/8455819/achiev
 ement-reports-posted-in-powerschool
DTSTART;VALUE=DATE:20260116
DTEND;VALUE=DATE:20260117
END:VEVENT
END:VCALENDAR
