BEGIN:VCALENDAR
VERSION:2.0
PRODID:SchoolNow
CALSCALE:GREGORIAN
BEGIN:VEVENT
UID:f21aa7ac-6cae-11f0-9cde-0a58a9feac02
DTSTAMP:20251216T200035Z
SUMMARY:Parent /Teacher Conferences Students out at 2:13pm
URL;VALUE=URI:https://www.tusd.org/schools/walteria/calendar/8455818/parent
 -teacher-conferences-students-out-at-2-13pm
DTSTART;VALUE=DATE:20260120
DTEND;VALUE=DATE:20260130
END:VEVENT
END:VCALENDAR
