BEGIN:VCALENDAR
VERSION:2.0
PRODID:SchoolNow
CALSCALE:GREGORIAN
BEGIN:VEVENT
UID:f21aa6a8-6cae-11f0-9bbe-0a58a9feac02
DTSTAMP:20251216T200036Z
SUMMARY:Invite Only at Risk Parent Teacher Conference Early out 2:13pm
URL;VALUE=URI:https://www.tusd.org/schools/walteria/calendar/8455817/invite
 -only-at-risk-parent-teacher-conference-early-out-2-13pm
DTSTART;VALUE=DATE:20260325
DTEND;VALUE=DATE:20260328
END:VEVENT
END:VCALENDAR
