BEGIN:VCALENDAR
VERSION:2.0
PRODID:SchoolNow
CALSCALE:GREGORIAN
BEGIN:VEVENT
UID:f21aa496-6cae-11f0-9957-0a58a9feac02
DTSTAMP:20251216T200035Z
SUMMARY:Dismissal at Noon: Students Last Day of School for the 2025-2026
URL;VALUE=URI:https://www.tusd.org/schools/walteria/calendar/8455815/dismis
 sal-at-noon-students-last-day-of-school-for-the-2025-2026
DTSTART;VALUE=DATE:20260611
DTEND;VALUE=DATE:20260612
END:VEVENT
END:VCALENDAR
