BEGIN:VCALENDAR
VERSION:2.0
PRODID:SchoolNow
CALSCALE:GREGORIAN
BEGIN:VEVENT
UID:f21a9ec4-6cae-11f0-82a8-0a58a9feac02
DTSTAMP:20251216T200036Z
SUMMARY:Student Free day: Professional Development Day for Teachers
URL;VALUE=URI:https://www.tusd.org/schools/walteria/calendar/8455810/studen
 t-free-day-professional-development-day-for-teachers
DTSTART;VALUE=DATE:20260306
DTEND;VALUE=DATE:20260307
END:VEVENT
END:VCALENDAR
