BEGIN:VCALENDAR
VERSION:2.0
PRODID:SchoolNow
CALSCALE:GREGORIAN
BEGIN:VEVENT
UID:a922fbbc-3f13-11f0-a409-0e5c1e0317b7
DTSTAMP:20251216T200036Z
SUMMARY:ELMAC #4 @ Walteria Elementary School
LOCATION:Walteria Elementary School\, 24456 Madison St\, Torrance\, CA 9050
 5\, USA
URL;VALUE=URI:https://www.tusd.org/schools/walteria/calendar/8236206/elmac-
 4-walteria-elementary-school
DTSTART:20260507T163000Z
DTEND:20260507T173000Z
ATTACH;FILENAME=ENGLISH_ELMAC Meeting #4_Presentation Template 2024-25;FMTT
 YPE=application/octet-stream:https://docs.google.com/presentation/d/1OR1d4
 F9d8ntTS7MokoullRp3sJVn99z23THPvL4J0C4/edit?slide=id.p1
END:VEVENT
END:VCALENDAR
