BEGIN:VCALENDAR
VERSION:2.0
PRODID:SchoolNow
CALSCALE:GREGORIAN
BEGIN:VEVENT
UID:a922fa90-3f13-11f0-a0ac-0e5c1e0317b7
DTSTAMP:20251216T200036Z
SUMMARY:ELMAC #2 @ Riviera Elementary School
LOCATION:Riviera Elementary School\, 365 Pso De Arena\, Torrance\, CA 90505
 \, USA
URL;VALUE=URI:https://www.tusd.org/schools/walteria/calendar/8236205/elmac-
 2-riviera-elementary-school
DTSTART:20260115T173000Z
DTEND:20260115T183000Z
END:VEVENT
END:VCALENDAR
