BEGIN:VCALENDAR
VERSION:2.0
PRODID:SchoolNow
CALSCALE:GREGORIAN
BEGIN:VEVENT
UID:a922f8e2-3f13-11f0-8cfd-0e5c1e0317b7
DTSTAMP:20251216T200036Z
SUMMARY:ELMAC #1 @ Arnold Elementary School
LOCATION:Arnold Elementary School\, 4100 W 227th St\, Torrance\, CA 90505\,
  USA
URL;VALUE=URI:https://www.tusd.org/schools/walteria/calendar/8236204/elmac-
 1-arnold-elementary-school
DTSTART:20251009T163000Z
DTEND:20251009T180000Z
ATTACH;FILENAME=JPN - South Area_ ELMAC Meeting #1_Presentation.pdf;FMTTYPE
 =application/pdf:https://drive.google.com/file/d/1Xy03OFPPrqf-SAhFUJ3Mfh_7
 pHqEuASW/view?usp=sharing
ATTACH;FILENAME=KOR_South Area_ ELMAC Meeting #1_Presentation.pdf;FMTTYPE=a
 pplication/pdf:https://drive.google.com/file/d/1RV_OJnasotlTouE3XYPE7rpWGP
 uHD0TM/view?usp=sharing
ATTACH;FILENAME=Sign in sheet.pdf;FMTTYPE=application/pdf:https://drive.goo
 gle.com/file/d/1AHJQa0JMuVZW2HkwyN7VSrLcJM9mhjqj/view?usp=sharing
ATTACH;FILENAME=South Area_ ELMAC #1 Agenda_Minutes .docx.pdf;FMTTYPE=appli
 cation/pdf:https://drive.google.com/file/d/1GiSuxsdY9iKW90R9-49dueNfgAmHAt
 yQ/view?usp=sharing
ATTACH;FILENAME=South Area_ ELMAC Meeting #1_Presentation;FMTTYPE=applicati
 on/octet-stream:https://docs.google.com/presentation/d/11tscVv-__HHtB3oIVF
 cI6ASWqq1lnHn6Xzd-ygJw35k/edit?usp=drive_link
ATTACH;FILENAME=South Area_ ELMAC Meeting #1_Presentation.pdf;FMTTYPE=appli
 cation/pdf:https://drive.google.com/file/d/1Y6rAT3GBSeg0hM_NnpdNBeP_EC8CD7
 qV/view?usp=sharing
END:VEVENT
END:VCALENDAR
