BEGIN:VCALENDAR
VERSION:2.0
PRODID:SchoolNow
CALSCALE:GREGORIAN
BEGIN:VEVENT
UID:a922d75e-3f13-11f0-9de8-0e5c1e0317b7
DTSTAMP:20251216T200036Z
SUMMARY:ELMAC #3 @ Seaside Elementary School
LOCATION:Seaside Elementary School\, 4651 Sharynne Ln\, Torrance\, CA 90505
 \, USA
URL;VALUE=URI:https://www.tusd.org/schools/walteria/calendar/8236203/elmac-
 3-seaside-elementary-school
DTSTART:20260319T163000Z
DTEND:20260319T173000Z
END:VEVENT
END:VCALENDAR
