BEGIN:VCALENDAR
VERSION:2.0
PRODID:SchoolNow
CALSCALE:GREGORIAN
BEGIN:VEVENT
UID:a915d000-cf2c-11f0-ba99-0e7c39913d3f
DTSTAMP:20251216T200037Z
SUMMARY:GATE ENRICHMENT (4th Grade)
LOCATION:Victor Elementary School\, 4820 Spencer St\, Torrance\, CA 90503\,
  USA
URL;VALUE=URI:https://www.tusd.org/schools/victor/calendar/8815137/gate-enr
 ichment-4th-grade
DTSTART:20251209T231500Z
DTEND:20251210T001500Z
END:VEVENT
END:VCALENDAR
