BEGIN:VCALENDAR
VERSION:2.0
PRODID:SchoolNow
CALSCALE:GREGORIAN
BEGIN:VEVENT
UID:a915ca92-cf2c-11f0-a66c-0e7c39913d3f
DTSTAMP:20251216T200037Z
SUMMARY:GATE ENRICHMENT (5th Grade)
LOCATION:Victor Elementary School\, 4820 Spencer St\, Torrance\, CA 90503\,
  USA
URL;VALUE=URI:https://www.tusd.org/schools/victor/calendar/8815136/gate-enr
 ichment-5th-grade
DTSTART:20251211T231500Z
DTEND:20251212T001500Z
END:VEVENT
END:VCALENDAR
