BEGIN:VCALENDAR
VERSION:2.0
PRODID:SchoolNow
CALSCALE:GREGORIAN
BEGIN:VEVENT
UID:7c092c66-cef9-11f0-a2eb-0a58a9feac02
DTSTAMP:20251216T200037Z
SUMMARY:Start Ride All Kids Bike Program with Kindergarten
URL;VALUE=URI:https://www.tusd.org/schools/victor/calendar/8814874/start-ri
 de-all-kids-bike-program-with-kindergarten
DTSTART;VALUE=DATE:20260112
DTEND;VALUE=DATE:20260113
END:VEVENT
END:VCALENDAR
