BEGIN:VCALENDAR
VERSION:2.0
PRODID:SchoolNow
CALSCALE:GREGORIAN
BEGIN:VEVENT
UID:2efe3ee2-c108-11f0-aa69-0a58a9feac02
DTSTAMP:20251216T200037Z
SUMMARY:4th and 5th SPELLING BEE TRYOUTS (Round 2)
LOCATION:Victor Elementary School\, 4820 Spencer St\, Torrance\, CA 90503\,
  USA
URL;VALUE=URI:https://www.tusd.org/schools/victor/calendar/8794876/4th-and-
 5th-spelling-bee-tryouts-round-2
DTSTART:20260108T233000Z
DTEND:20260109T003000Z
END:VEVENT
END:VCALENDAR
