BEGIN:VCALENDAR
VERSION:2.0
PRODID:SchoolNow
CALSCALE:GREGORIAN
BEGIN:VEVENT
UID:2efe3460-c108-11f0-bfa7-0a58a9feac02
DTSTAMP:20251216T200037Z
SUMMARY:4th and 5th SPELLING BEE TRYOUTS (Round 1)
LOCATION:Victor Elementary School\, 4820 Spencer St\, Torrance\, CA 90503\,
  USA
URL;VALUE=URI:https://www.tusd.org/schools/victor/calendar/8794875/4th-and-
 5th-spelling-bee-tryouts-round-1
DTSTART:20251211T231500Z
DTEND:20251212T001500Z
END:VEVENT
END:VCALENDAR
