BEGIN:VCALENDAR
VERSION:2.0
PRODID:SchoolNow
CALSCALE:GREGORIAN
BEGIN:VEVENT
UID:6f0a8446-bc0d-11f0-8525-0affdf0c1357
DTSTAMP:20251216T200037Z
SUMMARY:Spirit Day - Ugly Holiday Sweater Day
URL;VALUE=URI:https://www.tusd.org/schools/victor/calendar/8783236/spirit-d
 ay-ugly-holiday-sweater-day
DTSTART;VALUE=DATE:20251212
DTEND;VALUE=DATE:20251213
END:VEVENT
END:VCALENDAR
