BEGIN:VCALENDAR
VERSION:2.0
PRODID:SchoolNow
CALSCALE:GREGORIAN
BEGIN:VEVENT
UID:6ee19dd8-bc0d-11f0-aa5c-0affdf0c1357
DTSTAMP:20251216T200037Z
SUMMARY:Spirit Day - Colors of Fall
URL;VALUE=URI:https://www.tusd.org/schools/victor/calendar/8783235/spirit-d
 ay-colors-of-fall
DTSTART;VALUE=DATE:20251114
DTEND;VALUE=DATE:20251115
END:VEVENT
END:VCALENDAR
