BEGIN:VCALENDAR
VERSION:2.0
PRODID:SchoolNow
CALSCALE:GREGORIAN
BEGIN:VEVENT
UID:6ee1934c-bc0d-11f0-9ddc-0affdf0c1357
DTSTAMP:20251216T200037Z
SUMMARY:Spirit Day - Pajama Day
URL;VALUE=URI:https://www.tusd.org/schools/victor/calendar/8783234/spirit-d
 ay-pajama-day
DTSTART;VALUE=DATE:20251219
DTEND;VALUE=DATE:20251220
END:VEVENT
END:VCALENDAR
