BEGIN:VCALENDAR
VERSION:2.0
PRODID:SchoolNow
CALSCALE:GREGORIAN
BEGIN:VEVENT
UID:83bfbe36-ba75-11f0-bd2f-0a58a9feac02
DTSTAMP:20251216T200037Z
SUMMARY:GATE ENRICHMENT: 5th Grade
LOCATION:Victor Elementary School\, 4820 Spencer St\, Torrance\, CA 90503\,
  USA
URL;VALUE=URI:https://www.tusd.org/schools/victor/calendar/8779138/gate-enr
 ichment-5th-grade
DTSTART:20251120T231500Z
DTEND:20251121T000000Z
END:VEVENT
END:VCALENDAR
