BEGIN:VCALENDAR
VERSION:2.0
PRODID:SchoolNow
CALSCALE:GREGORIAN
BEGIN:VEVENT
UID:83bf9f5a-ba75-11f0-b226-0a58a9feac02
DTSTAMP:20251216T200037Z
SUMMARY:GATE ENRICHMENT: 4th Grade
LOCATION:Victor Elementary School\, 4820 Spencer St\, Torrance\, CA 90503\,
  USA
URL;VALUE=URI:https://www.tusd.org/schools/victor/calendar/8779137/gate-enr
 ichment-4th-grade
DTSTART:20251118T231500Z
DTEND:20251119T000000Z
END:VEVENT
END:VCALENDAR
