BEGIN:VCALENDAR
VERSION:2.0
PRODID:SchoolNow
CALSCALE:GREGORIAN
BEGIN:VEVENT
UID:0cf5f44a-af81-11f0-9a70-0a58a9feac02
DTSTAMP:20251216T200037Z
SUMMARY:MAKE UP PICTURE DAY
URL;VALUE=URI:https://www.tusd.org/schools/victor/calendar/8743227/make-up-
 picture-day
DTSTART;VALUE=DATE:20251119
DTEND;VALUE=DATE:20251120
END:VEVENT
END:VCALENDAR
