BEGIN:VCALENDAR
VERSION:2.0
PRODID:SchoolNow
CALSCALE:GREGORIAN
BEGIN:VEVENT
UID:f82eb2a0-a886-11f0-a425-0a58a9feac02
DTSTAMP:20251216T200037Z
SUMMARY:Victor School Site Council Meeting (Virtual)
LOCATION:https://tusd-org.zoom.us/j/87819555414?pwd=SrbaO37YDXYz2YPKBebfzhv
 5pafl1T.1&jst=3
URL;VALUE=URI:https://www.tusd.org/schools/victor/calendar/8720452/victor-s
 chool-site-council-meeting-virtual
DTSTART:20260604T223000Z
DTEND:20260604T233000Z
END:VEVENT
END:VCALENDAR
