BEGIN:VCALENDAR
VERSION:2.0
PRODID:SchoolNow
CALSCALE:GREGORIAN
BEGIN:VEVENT
UID:f82eb16a-a886-11f0-9c10-0a58a9feac02
DTSTAMP:20251216T200037Z
SUMMARY:Victor School Site Council Meeting (Virtual)
LOCATION:https://tusd-org.zoom.us/j/82070121198?pwd=Szp6brPfcXdoJ5xI4mve2xz
 bzBBWv0.1&jst=3
URL;VALUE=URI:https://www.tusd.org/schools/victor/calendar/8720451/victor-s
 chool-site-council-meeting-virtual
DTSTART:20260528T230000Z
DTEND:20260529T010000Z
END:VEVENT
END:VCALENDAR
