BEGIN:VCALENDAR
VERSION:2.0
PRODID:SchoolNow
CALSCALE:GREGORIAN
BEGIN:VEVENT
UID:f82eafc6-a886-11f0-94bd-0a58a9feac02
DTSTAMP:20251216T200037Z
SUMMARY:Victor School Site Council Meeting (Virtual)
LOCATION:https://tusd-org.zoom.us/j/81910141922?pwd=qF0Aa3hl5fZbIEzUUjPx12g
 I4S6Nj1.1&jst=3
URL;VALUE=URI:https://www.tusd.org/schools/victor/calendar/8720450/victor-s
 chool-site-council-meeting-virtual
DTSTART:20251030T223000Z
DTEND:20251031T000000Z
END:VEVENT
END:VCALENDAR
